BEGIN:VCALENDAR
VERSION:2.0
PRODID:-//Chicon Pleine Mer - ECPv6.15.20//NONSGML v1.0//EN
CALSCALE:GREGORIAN
METHOD:PUBLISH
X-WR-CALNAME:Chicon Pleine Mer
X-ORIGINAL-URL:https://www.chiconpleinemer.be
X-WR-CALDESC:Évènements pour Chicon Pleine Mer
REFRESH-INTERVAL;VALUE=DURATION:PT1H
X-Robots-Tag:noindex
X-PUBLISHED-TTL:PT1H
BEGIN:VTIMEZONE
TZID:Europe/Paris
BEGIN:DAYLIGHT
TZOFFSETFROM:+0100
TZOFFSETTO:+0200
TZNAME:CEST
DTSTART:20250330T010000
END:DAYLIGHT
BEGIN:STANDARD
TZOFFSETFROM:+0200
TZOFFSETTO:+0100
TZNAME:CET
DTSTART:20251026T010000
END:STANDARD
BEGIN:DAYLIGHT
TZOFFSETFROM:+0100
TZOFFSETTO:+0200
TZNAME:CEST
DTSTART:20260329T010000
END:DAYLIGHT
BEGIN:STANDARD
TZOFFSETFROM:+0200
TZOFFSETTO:+0100
TZNAME:CET
DTSTART:20261025T010000
END:STANDARD
BEGIN:DAYLIGHT
TZOFFSETFROM:+0100
TZOFFSETTO:+0200
TZNAME:CEST
DTSTART:20270328T010000
END:DAYLIGHT
BEGIN:STANDARD
TZOFFSETFROM:+0200
TZOFFSETTO:+0100
TZNAME:CET
DTSTART:20271031T010000
END:STANDARD
END:VTIMEZONE
BEGIN:VEVENT
DTSTART;TZID=Europe/Paris:20260425T080000
DTEND;TZID=Europe/Paris:20260502T170000
DTSTAMP:20260422T140949
CREATED:20251209T121215Z
LAST-MODIFIED:20251209T121215Z
UID:1265-1777104000-1777741200@www.chiconpleinemer.be
SUMMARY:Semaine Projet LE PALAN (bateau réservé)
DESCRIPTION:
URL:https://www.chiconpleinemer.be/event/semaine-projet-le-palan-bateau-reserve-4/
END:VEVENT
BEGIN:VEVENT
DTSTART;TZID=Europe/Paris:20260502T170000
DTEND;TZID=Europe/Paris:20260509T110000
DTSTAMP:20260422T140949
CREATED:20251209T121256Z
LAST-MODIFIED:20251209T121256Z
UID:1268-1777741200-1778324400@www.chiconpleinemer.be
SUMMARY:Semaine Projet LE PALAN (bateau réservé)
DESCRIPTION:
URL:https://www.chiconpleinemer.be/event/semaine-projet-le-palan-bateau-reserve-5/
END:VEVENT
BEGIN:VEVENT
DTSTART;TZID=Europe/Paris:20260517T120000
DTEND;TZID=Europe/Paris:20260524T170000
DTSTAMP:20260422T140949
CREATED:20250121T145852Z
LAST-MODIFIED:20260216T221043Z
UID:1198-1779019200-1779642000@www.chiconpleinemer.be
SUMMARY:Lanzarote - Madère : convoyage (complet)
DESCRIPTION:Places disponibles: complet \nNiveau: ‘intermédiaire’ à ‘confirmé’ (si l’équipe ‘skipper’ est au complet on peut imaginer embarquer des débutants) \nNous avons déjà fait cette navigation 4 fois. C’est un bond de plus ou moins 300 milles\, soit entre 2 et 3 jours. \nEn général nous partons d’Arrecife pour faire escale à La Graciosa\, et se positionner au mieux. Cela permet aussi aux équipiers de s’amariner. Ensuite nous décollons vers Madère \nNous comptons au minimum 7 jours pour ce trip\, et idéalement 10 jours semaines. c4est pour cette raison que nous avons bloqué une fenêtre de 14 jours pour ce trip ;Cela permet d’élargir nos possibilités de rencontrer une bonne fenêtre météo\, et permet de naviguer éventuellement un peu sur place.
URL:https://www.chiconpleinemer.be/event/lanzarote-madere-convoyage-et-navigation-astro/
END:VEVENT
BEGIN:VEVENT
DTSTART;TZID=Europe/Paris:20260525T170000
DTEND;TZID=Europe/Paris:20260601T120000
DTSTAMP:20260422T140949
CREATED:20250228T111859Z
LAST-MODIFIED:20260309T162833Z
UID:1214-1779728400-1780315200@www.chiconpleinemer.be
SUMMARY:Madère : navigations autour de l'île (+ l'île de Porto Santo) - complet
DESCRIPTION:Places disponibles: complet \nProgramme : Cette semaines là nous alternerons entre petites et moyennes navigations dans l’archipel madérois\, entre l’île principale\, les Ilhas Desiertas et  l’île voisine de Porto Santo\, et visite à terre. Les 3 marinas de l’île sont situées au sud de l’île\, donc bien protégées\, et le programme sera établi selon les envies des membres participants. Madère offre de nombreuses possibilités de petites navigations avec observation de cétacés\, et également de nombreuses possibilités de randonnées \nNiveau d’expérience : Tout le monde est bienvenu\, des plus débutants aux autres.
URL:https://www.chiconpleinemer.be/event/madere-navigations-autour-de-lile-lile-de-porto-santo-6/
END:VEVENT
BEGIN:VEVENT
DTSTART;TZID=Europe/Paris:20260605T170000
DTEND;TZID=Europe/Paris:20260612T110000
DTSTAMP:20260422T140949
CREATED:20251210T102442Z
LAST-MODIFIED:20260416T103034Z
UID:1271-1780678800-1781262000@www.chiconpleinemer.be
SUMMARY:Madère : navigations autour de l'île (+ l'île de Porto Santo)
DESCRIPTION:Places disponibles: 6 \nProgramme : Cette semaines là nous alternerons entre petites et moyennes navigations dans l’archipel madérois\, entre l’île principale\, les Ilhas Desiertas et  l’île voisine de Porto Santo\, et visite à terre. Les 3 marinas de l’île sont situées au sud de l’île\, donc bien protégées\, et le programme sera établi selon les envies des membres participants. Madère offre de nombreuses possibilités de petites navigations avec observation de cétacés\, et également de nombreuses possibilités de randonnées \nNiveau d’expérience : Tout le monde est bienvenu\, des plus débutants aux autres. \nNous avons une certaine flexibilité pour les dates exactes de cette semaine\, n’hésitez pas à nous contacter si vous préférez venir du jeudi au jeudi ou du samedi au samedi par exemple.
URL:https://www.chiconpleinemer.be/event/madere-navigations-autour-de-lile-lile-de-porto-santo/
END:VEVENT
BEGIN:VEVENT
DTSTART;TZID=Europe/Paris:20260618T120000
DTEND;TZID=Europe/Paris:20260628T120000
DTSTAMP:20260422T140949
CREATED:20251222T123824Z
LAST-MODIFIED:20260323T124904Z
UID:1279-1781784000-1782648000@www.chiconpleinemer.be
SUMMARY:De Madère aux Açores (complet)
DESCRIPTION:Places disponibles: complet \nDépart: Funchal Madère \nArrivée: Ponta Delgada\, la capitale de l’île São Miguel aux Açores \nNiveau: ‘intermédiaire’ à ‘confirmé’ (si l’équipe ‘skipper’ est au complet on peut imaginer embarquer des débutants) \nC’est un bond de plus ou moins 500 milles\, soit entre 4 et 5 jours de mer \nCela permet aussi aux équipiers de s’amariner. Ensuite nous décollons vers les Açores \nNous comptons au minimum 10 jours pour ce trip. Cela permet d’élargir nos possibilités de rencontrer une bonne fenêtre météo\, et permet de naviguer éventuellement un peu sur place\, soit à Madère avant le départ\, soit aux Açores après la traversée.
URL:https://www.chiconpleinemer.be/event/de-madere-aux-acores/
END:VEVENT
BEGIN:VEVENT
DTSTART;TZID=Europe/Paris:20260701T120000
DTEND;TZID=Europe/Paris:20260711T120000
DTSTAMP:20260422T140949
CREATED:20251222T124446Z
LAST-MODIFIED:20251222T124446Z
UID:1282-1782907200-1783771200@www.chiconpleinemer.be
SUMMARY:Navigations aux Açores
DESCRIPTION:Places disponibles: 6 \nProgramme : Cette semaines là nous alternerons entre petites et moyennes navigations dans l’archipel des Açores\, Le programme sera établi selon les envies des membres participants. Le Açores offre de nombreuses possibilités de navigations avec observation de cétacés\, et également de nombreuses possibilités de randonnées. \nRemarque: Nous n’avons encore jamais navigué dans cette zone. Le trip sera donc sous le signe de l’aventure et de la découverte ensemble. Cela peut être un atout pour tous ceux qui veulent découvrir et se préparer à un voyage en voilier. \nNiveau d’expérience : Tout le monde est bienvenu\, des plus débutants aux autres.
URL:https://www.chiconpleinemer.be/event/navigations-aux-acores/
END:VEVENT
BEGIN:VEVENT
DTSTART;TZID=Europe/Paris:20260718T120000
DTEND;TZID=Europe/Paris:20260801T120000
DTSTAMP:20260422T140949
CREATED:20251222T124957Z
LAST-MODIFIED:20260202T105629Z
UID:1284-1784376000-1785585600@www.chiconpleinemer.be
SUMMARY:Açores - Bretagne: convoyage (complet)
DESCRIPTION:Places disponibles: complet \nDépart: Ponta Delgada\, la capitale de l’île São Miguel aux Açores \nArrivée: Le Crouesty\, Bretagne \nNiveau: ‘intermédiaire ++’ à ‘confirmé’ \nC’est un bond de plus ou moins 1100 milles en ligne directe. Et rien ne dit que celle-ci sera la route suivie\, il en va souvent ainsi sur des navigations longues et dans des zones sujettes à des météos moins stables. \nNous comptons au minimum 14 jours pour ce trip. Cela permet d’élargir nos possibilités de rencontrer une bonne fenêtre météo\, et permet de naviguer éventuellement un peu sur place\, soit aux Açores avant le départ\, soit sur place après la traversée.
URL:https://www.chiconpleinemer.be/event/acores-bretagne-convoyage/
END:VEVENT
BEGIN:VEVENT
DTSTART;TZID=Europe/Paris:20260808T100000
DTEND;TZID=Europe/Paris:20260815T100000
DTSTAMP:20260422T140949
CREATED:20260416T094422Z
LAST-MODIFIED:20260416T094422Z
UID:1307-1786183200-1786788000@www.chiconpleinemer.be
SUMMARY:Bretagne: navigations dans le Golfe du Morbihan
DESCRIPTION:Nombre de places disponibles : 6 \nNiveau: de Novice à Confirmé \nLieu de départ du séjour: Port du Crouesty – Bretagne \nLieu de fin de séjour: Port du Crouesty – Bretagne \nL’objectif de la semaine est la découverte ou l’approfondissement de la pratique de la voile en toute convivialité et détente. \nCe séjour permet d’envisager des navigations dans le Golfe du Morbihan et autour de ses îles. Elles seront rythmées par les marées et courants de ces eaux. Nous adapterons le programme selon l’envie et le niveau des équipiers\, et bien entendu selon les conditions météo du moment. \nN’hésitez pas à nous contacter directement pour personnaliser le séjour: détente\, apprentissage\, navigations de nuit\, perfectionnement…
URL:https://www.chiconpleinemer.be/event/bretagne-navigations-dans-le-golfe-du-morbihan/
LOCATION:Port Crouesty
END:VEVENT
BEGIN:VEVENT
DTSTART;TZID=Europe/Paris:20260815T110000
DTEND;TZID=Europe/Paris:20260822T100000
DTSTAMP:20260422T140949
CREATED:20260416T094731Z
LAST-MODIFIED:20260416T094731Z
UID:1310-1786791600-1787392800@www.chiconpleinemer.be
SUMMARY:Bretagne: navigations dans le Golfe du Morbihan
DESCRIPTION:Nombre de places disponibles : 6 \nNiveau: de Novice à Confirmé \nLieu de départ du séjour: Port du Crouesty – Bretagne \nLieu de fin de séjour: Port du Crouesty – Bretagne \nL’objectif de la semaine est la découverte ou l’approfondissement de la pratique de la voile en toute convivialité et détente. \nCe séjour permet d’envisager des navigations dans le Golfe du Morbihan et autour de ses îles. Elles seront rythmées par les marées et courants de ces eaux. Nous adapterons le programme selon l’envie et le niveau des équipiers\, et bien entendu selon les conditions météo du moment. \nN’hésitez pas à nous contacter directement pour personnaliser le séjour: détente\, apprentissage\, navigations de nuit\, perfectionnement…
URL:https://www.chiconpleinemer.be/event/bretagne-navigations-dans-le-golfe-du-morbihan-2/
END:VEVENT
BEGIN:VEVENT
DTSTART;TZID=Europe/Paris:20260822T110000
DTEND;TZID=Europe/Paris:20260829T100000
DTSTAMP:20260422T140949
CREATED:20260416T094910Z
LAST-MODIFIED:20260416T094910Z
UID:1312-1787396400-1787997600@www.chiconpleinemer.be
SUMMARY:Bretagne: navigations dans le Golfe du Morbihan
DESCRIPTION:Nombre de places disponibles : 6 \nNiveau: de Novice à Confirmé \nLieu de départ du séjour: Port du Crouesty – Bretagne \nLieu de fin de séjour: Port du Crouesty – Bretagne \nL’objectif de la semaine est la découverte ou l’approfondissement de la pratique de la voile en toute convivialité et détente. \nCe séjour permet d’envisager des navigations dans le Golfe du Morbihan et autour de ses îles. Elles seront rythmées par les marées et courants de ces eaux. Nous adapterons le programme selon l’envie et le niveau des équipiers\, et bien entendu selon les conditions météo du moment. \nN’hésitez pas à nous contacter directement pour personnaliser le séjour: détente\, apprentissage\, navigations de nuit\, perfectionnement…
URL:https://www.chiconpleinemer.be/event/bretagne-navigations-dans-le-golfe-du-morbihan-3/
LOCATION:Port Crouesty
END:VEVENT
BEGIN:VEVENT
DTSTART;TZID=Europe/Paris:20260912T110000
DTEND;TZID=Europe/Paris:20260919T100000
DTSTAMP:20260422T140949
CREATED:20260416T095145Z
LAST-MODIFIED:20260416T095524Z
UID:1314-1789210800-1789812000@www.chiconpleinemer.be
SUMMARY:Bretagne: navigations dans le Golfe du Morbihan
DESCRIPTION:Nombre de places disponibles : 6 \nNiveau: de Novice à Confirmé \nLieu de départ du séjour: Port du Crouesty – Bretagne \nLieu de fin de séjour: Port du Crouesty – Bretagne \nL’objectif de la semaine est la découverte ou l’approfondissement de la pratique de la voile en toute convivialité et détente. \nCe séjour permet d’envisager des navigations dans le Golfe du Morbihan et autour de ses îles. Elles seront rythmées par les marées et courants de ces eaux. Nous adapterons le programme selon l’envie et le niveau des équipiers\, et bien entendu selon les conditions météo du moment. \nN’hésitez pas à nous contacter directement pour personnaliser le séjour: détente\, apprentissage\, navigations de nuit\, perfectionnement…
URL:https://www.chiconpleinemer.be/event/bretagne-navigations-dans-le-golfe-du-morbihan-4/
LOCATION:Port Crouesty
END:VEVENT
BEGIN:VEVENT
DTSTART;TZID=Europe/Paris:20260919T110000
DTEND;TZID=Europe/Paris:20260926T100000
DTSTAMP:20260422T140949
CREATED:20260416T095306Z
LAST-MODIFIED:20260416T095604Z
UID:1316-1789815600-1790416800@www.chiconpleinemer.be
SUMMARY:Bretagne: navigations dans le Golfe du Morbihan
DESCRIPTION:Nombre de places disponibles : 6 \nNiveau: de Novice à Confirmé \nLieu de départ du séjour: Port du Crouesty – Bretagne \nLieu de fin de séjour: Port du Crouesty – Bretagne \nL’objectif de la semaine est la découverte ou l’approfondissement de la pratique de la voile en toute convivialité et détente. \nCe séjour permet d’envisager des navigations dans le Golfe du Morbihan et autour de ses îles. Elles seront rythmées par les marées et courants de ces eaux. Nous adapterons le programme selon l’envie et le niveau des équipiers\, et bien entendu selon les conditions météo du moment. \nN’hésitez pas à nous contacter directement pour personnaliser le séjour: détente\, apprentissage\, navigations de nuit\, perfectionnement…
URL:https://www.chiconpleinemer.be/event/bretagne-navigations-dans-le-golfe-du-morbihan-5/
LOCATION:Port Crouesty
END:VEVENT
BEGIN:VEVENT
DTSTART;TZID=Europe/Paris:20260926T110000
DTEND;TZID=Europe/Paris:20261003T100000
DTSTAMP:20260422T140949
CREATED:20260416T095452Z
LAST-MODIFIED:20260416T104248Z
UID:1318-1790420400-1791021600@www.chiconpleinemer.be
SUMMARY:Bretagne: convoyage et sortie de l'eau
DESCRIPTION:Nombre de places disponibles : 6 \nNiveau: Confirmé \nLieu de départ du séjour: Port du Crouesty – Bretagne \nLieu d’arrivée du séjour: Port de Loctudy – Bretagne \nL’objectif de la semaine est d’amener le bateau à Loctudy où il sera sorti de l’eau pour un chantier substantiel de plusieurs mois. Cette semaine demandera à l’équipage un certain niveau d’expérience.
URL:https://www.chiconpleinemer.be/event/bretagne-navigations-dans-le-golfe-du-morbihan-6/
LOCATION:Port Crouesty
END:VEVENT
END:VCALENDAR